BEGIN:VCALENDAR
VERSION:2.0
PRODID:-//ChamberMaster//Event Calendar 2.0//EN
METHOD:PUBLISH
X-PUBLISHED-TTL:P3D
REFRESH-INTERVAL:P3D
CALSCALE:GREGORIAN
BEGIN:VEVENT
DTSTART:20260424T210000Z
DTEND:20260424T220000Z
X-MICROSOFT-CDO-ALLDAYEVENT:FALSE
SUMMARY:Color Me Mine Ribbon Cutting
DESCRIPTION:Paint your own pottery\, with a studio available for walk-ins\, workshops\, and parties.
X-ALT-DESC;FMTTYPE=text/html:Paint your own pottery\, with a studio available for walk-ins\, workshops\, and parties.
LOCATION:701 N Milwaukee Ave Vernon Hills Ste 184
UID:e.687.307469
SEQUENCE:3
DTSTAMP:20260421T154147Z
URL:https://glmvchamber-vista2025-gzcms.preview.gochambermaster.com/events/details/color-me-mine-ribbon-cutting-307469
END:VEVENT

END:VCALENDAR
